BEGIN:VCALENDAR
VERSION:2.0
PRODID:-//Ansche Chesed - ECPv5.6.0//NONSGML v1.0//EN
CALSCALE:GREGORIAN
METHOD:PUBLISH
X-WR-CALNAME:Ansche Chesed
X-ORIGINAL-URL:https://www.anschechesed.org
X-WR-CALDESC:Events for Ansche Chesed
BEGIN:VTIMEZONE
TZID:America/New_York
BEGIN:DAYLIGHT
TZOFFSETFROM:-0500
TZOFFSETTO:-0400
TZNAME:EDT
DTSTART:20260308T070000
END:DAYLIGHT
BEGIN:STANDARD
TZOFFSETFROM:-0400
TZOFFSETTO:-0500
TZNAME:EST
DTSTART:20261101T060000
END:STANDARD
END:VTIMEZONE
BEGIN:VEVENT
DTSTART;TZID=America/New_York:20260215T103000
DTEND;TZID=America/New_York:20260215T120000
DTSTAMP:20260419T090240
CREATED:20251118T231726Z
LAST-MODIFIED:20260327T143952Z
UID:360200-1771151400-1771156800@www.anschechesed.org
SUMMARY:Reflections Through Painting and Collage: Workshop Series with Amy Tenenouser
DESCRIPTION:In this painting and collage workshop series\, led by artist Amy Tenenouser\, participants will be introduced to a range of artists and art historical periods while exploring painting and collage through memory\, reflection\, and Jewish spiritual ideas and culture. Drawing inspiration from still life set-ups and themes that spark imagination and personal life stories\, participants will begin to build the foundation for their own unique form of creative expression. \nLearn more and register
URL:https://www.anschechesed.org/calendar-item/reflections-through-painting-and-collage-workshop-series-with-amy-tenenouser/2026-02-15/
LOCATION:5th Floor North
CATEGORIES:Program
END:VEVENT
END:VCALENDAR