BEGIN:VCALENDAR
VERSION:2.0
PRODID:-//Ansche Chesed - ECPv5.6.0//NONSGML v1.0//EN
CALSCALE:GREGORIAN
METHOD:PUBLISH
X-WR-CALNAME:Ansche Chesed
X-ORIGINAL-URL:https://www.anschechesed.org
X-WR-CALDESC:Events for Ansche Chesed
BEGIN:VTIMEZONE
TZID:America/New_York
BEGIN:DAYLIGHT
TZOFFSETFROM:-0500
TZOFFSETTO:-0400
TZNAME:EDT
DTSTART:20250309T070000
END:DAYLIGHT
BEGIN:STANDARD
TZOFFSETFROM:-0400
TZOFFSETTO:-0500
TZNAME:EST
DTSTART:20251102T060000
END:STANDARD
END:VTIMEZONE
BEGIN:VEVENT
DTSTART;TZID=America/New_York:20250226T180000
DTEND;TZID=America/New_York:20250226T200000
DTSTAMP:20260425T145746
CREATED:20250203T222620Z
LAST-MODIFIED:20250203T222620Z
UID:358354-1740592800-1740600000@www.anschechesed.org
SUMMARY:Rye + Rye: It's a Twofer!
DESCRIPTION:Tour the Fort Hamilton Distillery a tasting of original whiskey-style New York Rye and an informal talk on the history of rye bread by culinary historian Avery Robinson. In addition to the rye bread\, munchies will be provided by Sahadi’s\, Brooklyn’s leading Middle Eastern grocery store. \nLimited to 30 people. Register here by Wednesday\, February 19.
URL:https://www.anschechesed.org/calendar-item/rye-rye-its-a-twofer/
LOCATION:Fort Hamilton Distillery\, 68 34th Street\, 2nd Floor\, Brooklyn\, NY\, 11232\, United States
CATEGORIES:Program
END:VEVENT
END:VCALENDAR