BEGIN:VCALENDAR
VERSION:2.0
PRODID:-//Ansche Chesed - ECPv5.6.0//NONSGML v1.0//EN
CALSCALE:GREGORIAN
METHOD:PUBLISH
X-WR-CALNAME:Ansche Chesed
X-ORIGINAL-URL:https://www.anschechesed.org
X-WR-CALDESC:Events for Ansche Chesed
BEGIN:VTIMEZONE
TZID:America/New_York
BEGIN:DAYLIGHT
TZOFFSETFROM:-0500
TZOFFSETTO:-0400
TZNAME:EDT
DTSTART:20250309T070000
END:DAYLIGHT
BEGIN:STANDARD
TZOFFSETFROM:-0400
TZOFFSETTO:-0500
TZNAME:EST
DTSTART:20251102T060000
END:STANDARD
END:VTIMEZONE
BEGIN:VEVENT
DTSTART;TZID=America/New_York:20250315T124500
DTEND;TZID=America/New_York:20250315T124500
DTSTAMP:20260424T132212
CREATED:20250304T211222Z
LAST-MODIFIED:20250304T211222Z
UID:358489-1742042700-1742042700@www.anschechesed.org
SUMMARY:Shushan Purim Kiddush Conversation: The Rich History of Jews in the Persian-Speaking World\, with Ruben Shimonov
DESCRIPTION:How did Jewish communities end up east of the Land of Israel? Join us as we explore the deep-rooted history of Persian-speaking Jews\, including the Jews of Iran\, Central Asia\, and the Caucasus. Ruben Shimonov\, Educator and National Director of the American Sephardi Federation’s Sephardi House will take us on a journey spanning 2600 years. As we come together on Shushan Purim\, this exploration couldn’t be more timely! \nPlease RSVP to help us plan\, walk-ins also welcome.
URL:https://www.anschechesed.org/calendar-item/shushan-purim-kiddush-conversation-the-rich-history-of-jews-in-the-persian-speaking-world-with-ruben-shimonov/
LOCATION:Multipurpose Room\, 251 West 100th Street\, New York\, NY\, 10025\, United States
CATEGORIES:Program,Purim
END:VEVENT
END:VCALENDAR