BEGIN:VCALENDAR
VERSION:2.0
PRODID:-//Ansche Chesed - ECPv5.6.0//NONSGML v1.0//EN
CALSCALE:GREGORIAN
METHOD:PUBLISH
X-WR-CALNAME:Ansche Chesed
X-ORIGINAL-URL:https://www.anschechesed.org
X-WR-CALDESC:Events for Ansche Chesed
BEGIN:VTIMEZONE
TZID:America/New_York
BEGIN:DAYLIGHT
TZOFFSETFROM:-0500
TZOFFSETTO:-0400
TZNAME:EDT
DTSTART:20250309T070000
END:DAYLIGHT
BEGIN:STANDARD
TZOFFSETFROM:-0400
TZOFFSETTO:-0500
TZNAME:EST
DTSTART:20251102T060000
END:STANDARD
END:VTIMEZONE
BEGIN:VEVENT
DTSTART;TZID=America/New_York:20250401T190000
DTEND;TZID=America/New_York:20250401T210000
DTSTAMP:20260423T115101
CREATED:20250324T151401Z
LAST-MODIFIED:20250324T151401Z
UID:358708-1743534000-1743541200@www.anschechesed.org
SUMMARY:Pre-Pesach ‘Meet Your Neighbor’ Dinner
DESCRIPTION:Every year at the Seder we say “Let all who are hungry\, come and eat.” Join AC and Knock Kock Give a Sock as we get ready for Pesach by bringing together the AC community and our neighbors living in local shelters to enjoy a meal sitting side-by-side. There will be ice breakers and delicious food. This is an opportunity for us to share and listen to one another\, so that ultimately we can live in a community where we better know our neighbors. \nThank you to Nicole Rothschild & Leonard DiPietra and their family\, and Bruce and Ava from Chef’s Table\, for their generous support of this event. \nRegister here
URL:https://www.anschechesed.org/calendar-item/pre-pesach-meet-your-neighbor-dinner/
LOCATION:Ansche Chesed
CATEGORIES:Passover,Program
END:VEVENT
END:VCALENDAR