BEGIN:VCALENDAR
VERSION:2.0
PRODID:-//Ansche Chesed - ECPv5.6.0//NONSGML v1.0//EN
CALSCALE:GREGORIAN
METHOD:PUBLISH
X-WR-CALNAME:Ansche Chesed
X-ORIGINAL-URL:https://www.anschechesed.org
X-WR-CALDESC:Events for Ansche Chesed
BEGIN:VTIMEZONE
TZID:America/New_York
BEGIN:DAYLIGHT
TZOFFSETFROM:-0500
TZOFFSETTO:-0400
TZNAME:EDT
DTSTART:20250309T070000
END:DAYLIGHT
BEGIN:STANDARD
TZOFFSETFROM:-0400
TZOFFSETTO:-0500
TZNAME:EST
DTSTART:20251102T060000
END:STANDARD
END:VTIMEZONE
BEGIN:VEVENT
DTSTART;TZID=America/New_York:20250502T183000
DTEND;TZID=America/New_York:20250502T183000
DTSTAMP:20260421T102747
CREATED:20250421T191149Z
LAST-MODIFIED:20250421T191149Z
UID:358865-1746210600-1746210600@www.anschechesed.org
SUMMARY:Playing Hide and Seek with God in the 21st Century: A Theological Shabbaton with Minyan M'at
DESCRIPTION:“This is not ‘theology’ to prove that God exists or answers your prayers immediately. My aim is to offer one Jewish believer’s account of how Judaism makes sense of our current world\, post Oct 7th\, post Holocaust\, in our current American milieu.” \nIn his book Seeking the Hiding God: A Personal Theological Essay\, former JTS Chancellor Arnie Eisen delves into the profound mystery of divine hiddenness\, presenting a compelling exploration of how this central theological dilemma resonates within modern Jewish life. \nAll are invited to join Minyan M’at for any and all of the events below. \nLearn more and register \nFriday Night\, May 2 \n6:30pm: Kabbalat Shabbat Services in the Mayer Cavalier Chapel \n7:30pm: Shabbat Dinner and Dialogue with Rabbi Dr. Laura Gold \nRegistration required\, $45/person \nProf. Eisen will introduce us to the main themes of his book and explore\, among other things\, how modern Jews can create a Jewish theology that involves a hidden God. \nShabbat morning\, May 3rd \n10am: Minyan M’at Services on the 5th Floor \nAfter Tefilot: Learning Session with Prof. Eisen teaching for 45 minutes on the 5th Floor \nKiddush/Lunch: On the roof (free RSVPs requested)
URL:https://www.anschechesed.org/calendar-item/playing-hide-and-seek-with-god-in-the-21st-century-a-theological-shabbaton-with-minyan-mat/2025-05-02/
LOCATION:Ansche Chesed
CATEGORIES:Dinner,Minyan M'at,Program,Service,Study
ATTACH;FMTTYPE=image/png:https://www.anschechesed.org/wp-content/uploads/2025/04/arnie-eisen-shabbaton-all-pics.png
ORGANIZER;CN="Minyan%20M%27at":MAILTO:troika@anschechesed.org
END:VEVENT
END:VCALENDAR