BEGIN:VCALENDAR
VERSION:2.0
PRODID:-//Ansche Chesed - ECPv5.6.0//NONSGML v1.0//EN
CALSCALE:GREGORIAN
METHOD:PUBLISH
X-WR-CALNAME:Ansche Chesed
X-ORIGINAL-URL:https://www.anschechesed.org
X-WR-CALDESC:Events for Ansche Chesed
BEGIN:VTIMEZONE
TZID:America/New_York
BEGIN:DAYLIGHT
TZOFFSETFROM:-0500
TZOFFSETTO:-0400
TZNAME:EDT
DTSTART:20250309T070000
END:DAYLIGHT
BEGIN:STANDARD
TZOFFSETFROM:-0400
TZOFFSETTO:-0500
TZNAME:EST
DTSTART:20251102T060000
END:STANDARD
END:VTIMEZONE
BEGIN:VEVENT
DTSTART;TZID=America/New_York:20250821T190000
DTEND;TZID=America/New_York:20250821T190000
DTSTAMP:20260423T004811
CREATED:20250626T171821Z
LAST-MODIFIED:20250626T171821Z
UID:359221-1755802800-1755802800@www.anschechesed.org
SUMMARY:Dror Yikra: AC at WBNA New York Liberty vs. Chicago Sky
DESCRIPTION:Join your Ansche Chesed friends and rabbis for an invigorating night of women’s basketball at the Barclays Center in Brooklyn\, cheering on the 2024 WNBA champs\, the New York Liberty as they take on the Chicago Sky! Dror yikra – let’s go\, Liberty! \nRegister now – limited seats available. (We will keep a waitlist to buy extra tickets if possible). \nPhoto: “240525 Lynx_Liberty_JohnMc068” by John Mac\, CC BY-SA 2.0
URL:https://www.anschechesed.org/calendar-item/dror-yikra-ac-at-wbna-new-york-liberty-vs-chicago-sky/
LOCATION:Barclays Center\, 620 Atlantic Ave\, Brooklyn\, NY\, 11217\, United States
CATEGORIES:Program
END:VEVENT
END:VCALENDAR