BEGIN:VCALENDAR
VERSION:2.0
PRODID:-//Ansche Chesed - ECPv5.6.0//NONSGML v1.0//EN
CALSCALE:GREGORIAN
METHOD:PUBLISH
X-WR-CALNAME:Ansche Chesed
X-ORIGINAL-URL:https://www.anschechesed.org
X-WR-CALDESC:Events for Ansche Chesed
BEGIN:VTIMEZONE
TZID:America/New_York
BEGIN:DAYLIGHT
TZOFFSETFROM:-0500
TZOFFSETTO:-0400
TZNAME:EDT
DTSTART:20250309T070000
END:DAYLIGHT
BEGIN:STANDARD
TZOFFSETFROM:-0400
TZOFFSETTO:-0500
TZNAME:EST
DTSTART:20251102T060000
END:STANDARD
END:VTIMEZONE
BEGIN:VEVENT
DTSTART;TZID=America/New_York:20250903T120000
DTEND;TZID=America/New_York:20250903T131500
DTSTAMP:20260423T184736
CREATED:20250828T171737Z
LAST-MODIFIED:20250828T171737Z
UID:359513-1756900800-1756905300@www.anschechesed.org
SUMMARY:Caregivers' Circle\, with DOROT Social Worker
DESCRIPTION:The Caregivers’ Circle is an ongoing group facilitated by DOROT social worker Jane Blumenstein\, LCSW\, designed to provide a supportive community where caregivers can connect and find strength alongside others who understand the joys and complexities of caregiving. Together\, we’ll explore topics such as managing stress and preventing burnout\, navigating family dynamics\, and prioritizing self-care. Whether you’re caring for a spouse\, parent\, or another loved one\, this group is here to support you. Learn More and Register
URL:https://www.anschechesed.org/calendar-item/caregivers-circle-with-dorot-social-worker/2025-09-03/
LOCATION:Ansche Chesed
CATEGORIES:Program
END:VEVENT
END:VCALENDAR