BEGIN:VCALENDAR
VERSION:2.0
PRODID:-//Ansche Chesed - ECPv5.6.0//NONSGML v1.0//EN
CALSCALE:GREGORIAN
METHOD:PUBLISH
X-WR-CALNAME:Ansche Chesed
X-ORIGINAL-URL:https://www.anschechesed.org
X-WR-CALDESC:Events for Ansche Chesed
BEGIN:VTIMEZONE
TZID:America/New_York
BEGIN:DAYLIGHT
TZOFFSETFROM:-0500
TZOFFSETTO:-0400
TZNAME:EDT
DTSTART:20250309T070000
END:DAYLIGHT
BEGIN:STANDARD
TZOFFSETFROM:-0400
TZOFFSETTO:-0500
TZNAME:EST
DTSTART:20251102T060000
END:STANDARD
END:VTIMEZONE
BEGIN:VEVENT
DTSTART;TZID=America/New_York:20250904T190000
DTEND;TZID=America/New_York:20250904T190000
DTSTAMP:20260423T201920
CREATED:20250828T172022Z
LAST-MODIFIED:20250828T172022Z
UID:359527-1757012400-1757012400@www.anschechesed.org
SUMMARY:The Longings of Our Hearts and Offerings of Our Lips\, with Hazzan Natasha Hirschhorn
DESCRIPTION:Join Hazzan Hirschhorn for an evening of song and reflection\, as the month of Elul begins. Let’s open our hearts to the music of the High Holiday season\, rich with memories of years past and inspiration for reconnection with God\, our community and our truest selves. RSVP here\, walk-ins welcome.
URL:https://www.anschechesed.org/calendar-item/the-longings-of-our-hearts-and-offerings-of-our-lips-with-hazzan-natasha-hirschhorn/
LOCATION:Mayer Cavalier Chapel\, 251 West 100th St.\, New York\, NY\, 10025\, United States
CATEGORIES:Elul,Program
GEO:40.7978378;-73.9708521
X-APPLE-STRUCTURED-LOCATION;VALUE=URI;X-ADDRESS=Mayer Cavalier Chapel 251 West 100th St. New York NY 10025 United States;X-APPLE-RADIUS=500;X-TITLE=251 West 100th St.:geo:-73.9708521,40.7978378
END:VEVENT
END:VCALENDAR