BEGIN:VCALENDAR
VERSION:2.0
PRODID:-//Ansche Chesed - ECPv5.6.0//NONSGML v1.0//EN
CALSCALE:GREGORIAN
METHOD:PUBLISH
X-WR-CALNAME:Ansche Chesed
X-ORIGINAL-URL:https://www.anschechesed.org
X-WR-CALDESC:Events for Ansche Chesed
BEGIN:VTIMEZONE
TZID:America/New_York
BEGIN:DAYLIGHT
TZOFFSETFROM:-0500
TZOFFSETTO:-0400
TZNAME:EDT
DTSTART:20250309T070000
END:DAYLIGHT
BEGIN:STANDARD
TZOFFSETFROM:-0400
TZOFFSETTO:-0500
TZNAME:EST
DTSTART:20251102T060000
END:STANDARD
END:VTIMEZONE
BEGIN:VEVENT
DTSTART;TZID=America/New_York:20250907T141000
DTEND;TZID=America/New_York:20250907T141000
DTSTAMP:20260424T004637
CREATED:20250902T163539Z
LAST-MODIFIED:20250902T191611Z
UID:359567-1757254200-1757254200@www.anschechesed.org
SUMMARY:Screening of "Elie Wiesel: Soul on Fire" Followed by Q&A
DESCRIPTION:Eighty years after his family’s deportation and the wholesale slaughter of European Jewry\, Elie Wiesel: Soul on Fire explores the man behind the searing memoir Night. Told through his own words and eloquent voice\, it reveals the known and unknown Elie Wiesel – his conflict\, memories\, and his legacy as one of the most public survivors of the Holocaust. With unique access to personal archives\, and using original interviews with his wife Marion and son Elisha\, the film has a unique intimacy. Followed by a Q & A with director and AC member Oren Rudavsky and Annette Insdorf\, co-producer and Columbia University Film Professor. \nClick here to purchase tickets \nFor reduced price General Admission tickets\, use promotion code “SOUL-15” (no quotation marks).
URL:https://www.anschechesed.org/calendar-item/screening-of-elie-wiesel-soul-on-fire-followed-by-qa/
LOCATION:IFC Center\, 323 6th Avenue\, New York\, NY\, 10014\, United States
CATEGORIES:Program
END:VEVENT
END:VCALENDAR