BEGIN:VCALENDAR
VERSION:2.0
PRODID:-//Ansche Chesed - ECPv5.6.0//NONSGML v1.0//EN
CALSCALE:GREGORIAN
METHOD:PUBLISH
X-WR-CALNAME:Ansche Chesed
X-ORIGINAL-URL:https://www.anschechesed.org
X-WR-CALDESC:Events for Ansche Chesed
BEGIN:VTIMEZONE
TZID:America/New_York
BEGIN:DAYLIGHT
TZOFFSETFROM:-0500
TZOFFSETTO:-0400
TZNAME:EDT
DTSTART:20250309T070000
END:DAYLIGHT
BEGIN:STANDARD
TZOFFSETFROM:-0400
TZOFFSETTO:-0500
TZNAME:EST
DTSTART:20251102T060000
END:STANDARD
END:VTIMEZONE
BEGIN:VEVENT
DTSTART;TZID=America/New_York:20250914T103000
DTEND;TZID=America/New_York:20250914T120000
DTSTAMP:20260424T115500
CREATED:20250828T172822Z
LAST-MODIFIED:20250828T172822Z
UID:359535-1757845800-1757851200@www.anschechesed.org
SUMMARY:Elul Reflections Through Watercolor and Collage\, with Amy Tenenouser and Rabbi Yael Hammerman
DESCRIPTION:In this Elul workshop presented by AC member and artist Amy Tenenouser and Rabbi Yael Hammerman\, participants will be introduced to visual ideas of memory\, reflection and change through the work of artists such as Marc Chagall\, Hannah Hoch and Phillip Guston\, and Jewish poetry to ground our process. Working from both Still Life Set-ups as well as themes that invoke imagination and life stories\, participants will use watercolor and/or collaging to tap into their own unique form of creative expression. This workshop is geared at adults. Learn More and Register
URL:https://www.anschechesed.org/calendar-item/elul-reflections-through-watercolor-and-collage-with-amy-tenenouser-and-rabbi-yael-hammerman/
LOCATION:5th Floor North
CATEGORIES:Program
END:VEVENT
BEGIN:VEVENT
DTSTART;TZID=America/New_York:20250914T121500
DTEND;TZID=America/New_York:20250914T133000
DTSTAMP:20260424T115500
CREATED:20250902T144208Z
LAST-MODIFIED:20250902T144208Z
UID:359563-1757852100-1757856600@www.anschechesed.org
SUMMARY:Alan Mintz Memorial Study Session
DESCRIPTION:Join Minyan M’at for the annual Zoom teaching session in memory of our dear friend Alan Mintz\, z”l. Alan was the Kekst Professor of Hebrew Literature at JTS and a longtime member of Ansche Chesed and Minyan M’at. This session commemorates Alan’s 8th yahrzeit. Teaching this year’s session will be Alan’s friend Rabbi Daniel Lehmann. \nRabbi Lehmann received his doctorate in Jewish Studies and Jewish Education from NYU and has served as the president of Boston Hebrew College and president of the Graduate Theological Union in Berkeley\, CA. Currently he is Head of School at the Hausner Jewish Day School in Palo Alto\, CA. \nRSVPs requested. Join us on Zoom.
URL:https://www.anschechesed.org/calendar-item/alan-mintz-memorial-study-session/
CATEGORIES:Elul,Minyan M'at,Program,Study
ORGANIZER;CN="Minyan%20M%27at":MAILTO:troika@anschechesed.org
END:VEVENT
END:VCALENDAR