BEGIN:VCALENDAR
VERSION:2.0
PRODID:-//Ansche Chesed - ECPv5.6.0//NONSGML v1.0//EN
CALSCALE:GREGORIAN
METHOD:PUBLISH
X-WR-CALNAME:Ansche Chesed
X-ORIGINAL-URL:https://www.anschechesed.org
X-WR-CALDESC:Events for Ansche Chesed
BEGIN:VTIMEZONE
TZID:America/New_York
BEGIN:DAYLIGHT
TZOFFSETFROM:-0500
TZOFFSETTO:-0400
TZNAME:EDT
DTSTART:20250309T070000
END:DAYLIGHT
BEGIN:STANDARD
TZOFFSETFROM:-0400
TZOFFSETTO:-0500
TZNAME:EST
DTSTART:20251102T060000
END:STANDARD
END:VTIMEZONE
BEGIN:VEVENT
DTSTART;TZID=America/New_York:20250920T124500
DTEND;TZID=America/New_York:20250920T124500
DTSTAMP:20260424T211506
CREATED:20250828T173112Z
LAST-MODIFIED:20250828T173112Z
UID:359539-1758372300-1758372300@www.anschechesed.org
SUMMARY:Akedat Yitzhak in Fine Art\, with Lilly Kaufman
DESCRIPTION:For almost 1\,500 years\, fine artists have grappled with the terse\, complex story of the Binding of Isaac\, giving us powerful visual interpretations which many of us have never seen. Following kiddush\, AC member Lilly Kaufman will share selected historic and modern images\, and lead a conversation about these works to help deepen our experience of this story when we hear it chanted on the second day of Rosh HaShanah. Learn More and RSVP \n \n \n \n\n\nPicture credits: Beit Alfa Synagogue\, 6th cent CE\, Israel; Caravaggio\, ‘The Sacrifice of Isaac’\, 1603\, Italy; Holzer\, ‘Abraham’s Opfer’\, 1997\, Denmark. This presentation is indebted to the work of Prof. Jo Milgrom and Prof. Joel Duman in ‘The Binding of Isaac :Piety and Protest’ at www.schechter.edu.
URL:https://www.anschechesed.org/calendar-item/akedat-yitzhak-in-fine-art-with-lilly-kaufman/
LOCATION:Multipurpose Room\, 251 West 100th Street\, New York\, NY\, 10025\, United States
CATEGORIES:Elul,Program
END:VEVENT
END:VCALENDAR