BEGIN:VCALENDAR
VERSION:2.0
PRODID:-//Ansche Chesed - ECPv5.6.0//NONSGML v1.0//EN
CALSCALE:GREGORIAN
METHOD:PUBLISH
X-WR-CALNAME:Ansche Chesed
X-ORIGINAL-URL:https://www.anschechesed.org
X-WR-CALDESC:Events for Ansche Chesed
BEGIN:VTIMEZONE
TZID:America/New_York
BEGIN:DAYLIGHT
TZOFFSETFROM:-0500
TZOFFSETTO:-0400
TZNAME:EDT
DTSTART:20250309T070000
END:DAYLIGHT
BEGIN:STANDARD
TZOFFSETFROM:-0400
TZOFFSETTO:-0500
TZNAME:EST
DTSTART:20251102T060000
END:STANDARD
END:VTIMEZONE
BEGIN:VEVENT
DTSTART;TZID=America/New_York:20251007T094000
DTEND;TZID=America/New_York:20251007T120000
DTSTAMP:20260425T220257
CREATED:20210915T172424Z
LAST-MODIFIED:20251006T174105Z
UID:348623-1759830000-1759838400@www.anschechesed.org
SUMMARY:TeleTefila Sukkot Services
DESCRIPTION:Join TeleTefila for Sukkot services on Zoom
URL:https://www.anschechesed.org/calendar-item/teletefila-sukkot-services/
CATEGORIES:Service,Sukkot
END:VEVENT
BEGIN:VEVENT
DTSTART;TZID=America/New_York:20251007T094500
DTEND;TZID=America/New_York:20251007T130000
DTSTAMP:20260425T220257
CREATED:20210903T170641Z
LAST-MODIFIED:20251006T174325Z
UID:348473-1759830300-1759842000@www.anschechesed.org
SUMMARY:Sanctuary Sukkot Services
DESCRIPTION:Join the Ansche Chesed community for our Sukkot services in the Sanctuary or virtually (on day 1\, 10/7).
URL:https://www.anschechesed.org/calendar-item/sukkot-services/2025-10-07/
LOCATION:Sanctuary\, 251 West 100th St.\, New York\, NY\, 10025\, United States
CATEGORIES:Service,Sukkot
GEO:40.7978378;-73.9708521
X-APPLE-STRUCTURED-LOCATION;VALUE=URI;X-ADDRESS=Sanctuary 251 West 100th St. New York NY 10025 United States;X-APPLE-RADIUS=500;X-TITLE=251 West 100th St.:geo:-73.9708521,40.7978378
END:VEVENT
BEGIN:VEVENT
DTSTART;TZID=America/New_York:20251007T100000
DTEND;TZID=America/New_York:20251007T123000
DTSTAMP:20260425T220257
CREATED:20210915T162613Z
LAST-MODIFIED:20251006T174357Z
UID:348564-1759831200-1759840200@www.anschechesed.org
SUMMARY:Minyan M'at Sukkot Services
DESCRIPTION:Join Minyan M’at for Sukkot services. \nLearn more about Minyan M’at
URL:https://www.anschechesed.org/calendar-item/minyan-mat-sukkot-services/2025-10-07/
LOCATION:5th Floor North
CATEGORIES:Minyan M'at,Service,Sukkot
ORGANIZER;CN="Minyan%20M%27at":MAILTO:troika@anschechesed.org
END:VEVENT
BEGIN:VEVENT
DTSTART;TZID=America/New_York:20251007T110000
DTEND;TZID=America/New_York:20251007T120000
DTSTAMP:20260425T220257
CREATED:20251006T174643Z
LAST-MODIFIED:20251006T174956Z
UID:359807-1759834800-1759838400@www.anschechesed.org
SUMMARY:Family Yoga Shacharit in the Sukkah
DESCRIPTION:Exhale and stretch during Family Yoga Shacharit with AC member + yoga teacher Ellen Braitman\, and children’s tefilah leader\, Leilah Rosen. Move\, breath and relax in our Sukkat Shal-ommm – our Sukkah of Peace. \nBring a yoga mat or towel\, and wear clothing you can move in.  \nRSVP here \nNote\, this will be in place of our regular children’s services. \nSince this program will fall on October 7th\, we will dedicate this Yoga Tefilah to the memory of Carmel Gat (z”l). Many of the released Israeli hostages\, especially the children\, mentioned that Carmel\, a yoga instructor\, was instrumental in comforting them during their captivity\, teaching them yoga and breathing exercises.
URL:https://www.anschechesed.org/calendar-item/family-yoga-shacharit-in-the-sukkah/
LOCATION:Rooftop Sukkah\, 251 West 100th Street\, New York\, NY\, 10025\, United States
CATEGORIES:Family Program,Family Services,Program,Service,Sukkot
END:VEVENT
END:VCALENDAR