BEGIN:VCALENDAR
VERSION:2.0
PRODID:-//Ansche Chesed - ECPv5.6.0//NONSGML v1.0//EN
CALSCALE:GREGORIAN
METHOD:PUBLISH
X-WR-CALNAME:Ansche Chesed
X-ORIGINAL-URL:https://www.anschechesed.org
X-WR-CALDESC:Events for Ansche Chesed
BEGIN:VTIMEZONE
TZID:America/New_York
BEGIN:DAYLIGHT
TZOFFSETFROM:-0500
TZOFFSETTO:-0400
TZNAME:EDT
DTSTART:20250309T070000
END:DAYLIGHT
BEGIN:STANDARD
TZOFFSETFROM:-0400
TZOFFSETTO:-0500
TZNAME:EST
DTSTART:20251102T060000
END:STANDARD
END:VTIMEZONE
BEGIN:VEVENT
DTSTART;TZID=America/New_York:20251008T190000
DTEND;TZID=America/New_York:20251008T190000
DTSTAMP:20260425T232209
CREATED:20241016T182633Z
LAST-MODIFIED:20251006T175822Z
UID:357723-1759950000-1759950000@www.anschechesed.org
SUMMARY:CANCELLED: 19th Annual Sukkot Sing-Along
DESCRIPTION:Unfortunately\, this year’s Sukkot Sing-Along Dinner has been cancelled.  \n\n\n\n\nThe Sukkah will still be open if you would like to eat your dinner there independently. Please see further details on our website: https://anschechesed.org/sukkot-5786-2025/#Communal-Sukkah-Use
URL:https://www.anschechesed.org/calendar-item/19th-annual-sukkot-sing-along/
LOCATION:Rooftop Sukkah\, 251 West 100th Street\, New York\, NY\, 10025\, United States
CATEGORIES:Dinner,Program,Shirei Chesed,Sukkot
END:VEVENT
END:VCALENDAR